BEGIN:VCALENDAR
VERSION:2.0
PRODID:-// - ECPv6.15.17//NONSGML v1.0//EN
CALSCALE:GREGORIAN
METHOD:PUBLISH
X-ORIGINAL-URL:https://vijayaganapathialayam.com
X-WR-CALDESC:Events for 
REFRESH-INTERVAL;VALUE=DURATION:PT1H
X-Robots-Tag:noindex
X-PUBLISHED-TTL:PT1H
BEGIN:VTIMEZONE
TZID:UTC
BEGIN:STANDARD
TZOFFSETFROM:+0000
TZOFFSETTO:+0000
TZNAME:UTC
DTSTART:20250101T000000
END:STANDARD
END:VTIMEZONE
BEGIN:VEVENT
DTSTART;TZID=UTC:20260101T080000
DTEND;TZID=UTC:20260101T170000
DTSTAMP:20260419T215944
CREATED:20250703T165820Z
LAST-MODIFIED:20250708T173625Z
UID:4396-1767254400-1767286800@vijayaganapathialayam.com
SUMMARY:ஐய்யப்பன் பூஜை
DESCRIPTION:The sacred Lord Vaibhava\, who appeared in Chennai Mathuranagaram\, through the holy Ther Muraigal (religious procession) of the Tamil deity\, has achieved a grand and glorious event. We cordially invite you all to participate in this divine Ther Muraigal celebration with great joy and devotion.
URL:https://vijayaganapathialayam.com/event/%e0%ae%90%e0%ae%af%e0%af%8d%e0%ae%af%e0%ae%aa%e0%af%8d%e0%ae%aa%e0%ae%a9%e0%af%8d-%e0%ae%aa%e0%af%82%e0%ae%9c%e0%af%88/
LOCATION:Temple\, 3rd Main Road\, Old Pallavaram\,(Perumal Nagar)\, chennai\, Tamil Nadu\, 600117\, India
ATTACH;FMTTYPE=image/jpeg:https://vijayaganapathialayam.com/wp-content/uploads/2025/03/mantras-bg1-scaled.jpg
END:VEVENT
END:VCALENDAR